BEGIN:VCALENDAR
PRODID:-//Century 21 Gadsby Realty Calendar
VERSION:2.0
METHOD:PUBLISH
BEGIN:VEVENT
URL:http://www.century21.co.nz/property/rural/buy/nz/37/gordonton/422359
ORGANIZER:chris.gadsby@century21.co.nz
DTSTART:20180121T130000
DTEND:20180121T140000
LOCATION:413C Whitikahu Road,  Gordonton
DTSTAMP:20180121T211804
SUMMARY:Century 21 Gadsby Realty Open House - 413C Whitikahu Road,  Gordonton
DESCRIPTION:Open House: 413C Whitikahu Road,  Gordonton 
Sunday 01:00-02:00 PM
Click the link for full listing information:http://www.century21.co.nz/property/rural/buy/nz/37/gordonton/422359
CLASS:PUBLIC
BEGIN:VALARM
TRIGGER:-PT1D
ACTION:DISPLAY
DESCRIPTION:Reminder
END:VALARM
END:VEVENT
END:VCALENDAR