BEGIN:VCALENDAR
PRODID:-// Calendar
VERSION:2.0
METHOD:PUBLISH
BEGIN:VEVENT
URL:https://www.century21.co.nz/property//buy////
ORGANIZER:
DTSTART:19700101T100000
DTEND:19700101T100000
LOCATION:
DTSTAMP:20181224T210840
SUMMARY: Open House - 
DESCRIPTION:Open House:  
Thursday 10:00-10:00 AM
Click the link for full listing information:https://www.century21.co.nz/property//buy////
CLASS:PUBLIC
BEGIN:VALARM
TRIGGER:-PT1D
ACTION:DISPLAY
DESCRIPTION:Reminder
END:VALARM
END:VEVENT
END:VCALENDAR