BEGIN:VCALENDAR
PRODID:-//Century 21 Gold Real Estate Calendar
VERSION:2.0
METHOD:PUBLISH
BEGIN:VEVENT
URL:https://www.century21.co.nz/property/residential/buy/nz/21/manurewa/448391
ORGANIZER:manurewa@century21.co.nz
DTSTART:20190119T140000
DTEND:20190119T143000
LOCATION:49 Burbank Avenue,  Manurewa
DTSTAMP:20181224T204833
SUMMARY:Century 21 Gold Real Estate Open House - 49 Burbank Avenue,  Manurewa
DESCRIPTION:Open House: 49 Burbank Avenue,  Manurewa 
Saturday 02:00-02:30 PM
Click the link for full listing information:https://www.century21.co.nz/property/residential/buy/nz/21/manurewa/448391
CLASS:PUBLIC
BEGIN:VALARM
TRIGGER:-PT1D
ACTION:DISPLAY
DESCRIPTION:Reminder
END:VALARM
END:VEVENT
END:VCALENDAR